BEGIN:VCALENDAR
VERSION:2.0
PRODID:icalendar-ruby
CALSCALE:GREGORIAN
METHOD:PUBLISH
BEGIN:VEVENT
DTSTAMP:20260424T035612Z
UID:15-421114@faithofsaginaw.org
DTSTART:20261101T160000Z
DTEND:20261101T170000Z
CLASS:PUBLIC
CREATED:20260423T222943
DESCRIPTION:Sunday Morning Service
LAST-MODIFIED:20260423T222943
LOCATION:4690 Tittabawassee Rd Saginaw MI
SUMMARY:Sunday Morning Service
URL;VALUE=URI:https://faithofsaginaw.org/events/sunday-morning-service/2026
 -11-01
ATTACH;FILENAME=FBC-Background.jpg;FMTTYPE=image/jpeg:https://dq5pwpg1q8ru0
 .cloudfront.net/2024/07/14/13/44/41/f28662ee-49ee-4aea-adb8-9f85b73af3df/F
 BC-Background.jpg
END:VEVENT
END:VCALENDAR
